BEGIN:VCALENDAR
VERSION:2.0
PRODID:-//Tukios.com/
BEGIN:VEVENT
UID:49279e9d-bf15-41af-9099-c21f86079c0f@www.mckeemortuary.com
DTSTAMP:20260424T210411Z
DTSTART:20260429T190000Z
DTEND:20260429T200000Z
SUMMARY:Graveside Service
DESCRIPTION:
URL:https://www.mckeemortuary.com/obituaries/paul-blanton
LOCATION: 600 Beckley Street  North Manchester IN 46962
GEO:41.0067736;-85.7802098
END:VEVENT
END:VCALENDAR